BEGIN:VCALENDAR
VERSION:2.0
PRODID:-//Women in Digital Empowerment - ECPv5.5.0.1//NONSGML v1.0//EN
CALSCALE:GREGORIAN
METHOD:PUBLISH
X-WR-CALNAME:Women in Digital Empowerment
X-ORIGINAL-URL:https://wide.lu
X-WR-CALDESC:Events for Women in Digital Empowerment
BEGIN:VTIMEZONE
TZID:Europe/Paris
BEGIN:DAYLIGHT
TZOFFSETFROM:+0100
TZOFFSETTO:+0200
TZNAME:CEST
DTSTART:20200329T010000
END:DAYLIGHT
BEGIN:STANDARD
TZOFFSETFROM:+0200
TZOFFSETTO:+0100
TZNAME:CET
DTSTART:20201025T010000
END:STANDARD
END:VTIMEZONE
BEGIN:VEVENT
DTSTART;TZID=Europe/Paris:20201126T193000
DTEND;TZID=Europe/Paris:20201126T213000
DTSTAMP:20210424T025049
CREATED:20201002T102747Z
LAST-MODIFIED:20201117T145111Z
UID:9555-1606419000-1606426200@wide.lu
SUMMARY:Women Founders 2020
DESCRIPTION:  \nOur 5th edition of Women Founders will be held on the 26th November  2020 from 7:30 pm. For the first time\, we will switch to digital format! \nMarina Andrieu\, our managing director will facilitate the first panel of our online event with Claire Munck (BeAngels)\, Arbia Smiti (Rosaly)\, Stephanie Nenta Mbianda(Xtramile) and Monika Lilo-Rozalska (Creators Ideation Lab) as speakers. \nOur second discussion will be led by Charles-Louis Machuron (Silicon Magazine) with Ekaterina Bereziy (ExoAtlet)\, Yanick Oswald (Mangrove) and Jolanta Czuba (Ride More Protection) as our guests. \nWe will be delighted to count you among us\, once again\, for this special occasion! \nYou can register here.
URL:https://wide.lu/event/women-founders-2020/
LOCATION:Online
CATEGORIES:conference,entrepreneurship
END:VEVENT
END:VCALENDAR