BEGIN:VCALENDAR
VERSION:2.0
PRODID:-//Women in Digital Empowerment - ECPv5.5.0.1//NONSGML v1.0//EN
CALSCALE:GREGORIAN
METHOD:PUBLISH
X-WR-CALNAME:Women in Digital Empowerment
X-ORIGINAL-URL:https://wide.lu
X-WR-CALDESC:Events for Women in Digital Empowerment
BEGIN:VTIMEZONE
TZID:Europe/Paris
BEGIN:DAYLIGHT
TZOFFSETFROM:+0100
TZOFFSETTO:+0200
TZNAME:CEST
DTSTART:20200329T010000
END:DAYLIGHT
BEGIN:STANDARD
TZOFFSETFROM:+0200
TZOFFSETTO:+0100
TZNAME:CET
DTSTART:20201025T010000
END:STANDARD
END:VTIMEZONE
BEGIN:VEVENT
DTSTART;TZID=Europe/Paris:20201024T090000
DTEND;TZID=Europe/Paris:20201114T120000
DTSTAMP:20210424T025020
CREATED:20201002T072003Z
LAST-MODIFIED:20201012T111748Z
UID:9513-1603530000-1605355200@wide.lu
SUMMARY:Workshop Ruby on Rails (in English)
DESCRIPTION:This year we are organising a digital activity Ruby on Rails! It’s a great opportunity to learn this web-application framework. \nThere will be two live stream coding sessions with our trainers. An introduction to ruby on rails on the 24th of October and the creation of a project on the 14th of November. So\, on these dates\, from 9:00 to 12:00\, keep your calendar free for our Saturday mornings workshops! \nIn between\, you will have to follow\, at your own pace\, an online course with the support of our team. And a Slack group will be dedicated to discussions where you will be able to share your achievements and ask questions. \nThings important to know before the beginning of the activity: you must pre-install Rails with instructions from http://guides.railsgirls.com/install/. Depending on your operating system it can take one hour. \nRegister here!
URL:https://wide.lu/event/workshop-ruby-on-rails/
LOCATION:Online
CATEGORIES:coding,workshop
END:VEVENT
BEGIN:VEVENT
DTSTART;TZID=Europe/Paris:20201112T130000
DTEND;TZID=Europe/Paris:20201112T140000
DTSTAMP:20210424T025020
CREATED:20201002T094441Z
LAST-MODIFIED:20201105T131727Z
UID:9544-1605186000-1605189600@wide.lu
SUMMARY:Conference "Introducing FemSTEM Coaching"
DESCRIPTION:  \nWIDE invites all women in STEM to join us for the online conference “Introducing FemSTEM Coaching” on November 12th\, 13:00 – 14:00. \nInterested in soft-skill training? We will introduce you to the Erasmus+ “FemSTEM coaching” project by providing you with info and insights that we collected during the first steps of the project regarding the situation of women in STEM in Luxembourg. We will also give you an overview of the coaching activities that are currently being developed by the partners. \nResearchers and students are also welcome! \nRegister here!
URL:https://wide.lu/event/conference-femstem/
CATEGORIES:conference
END:VEVENT
END:VCALENDAR