BEGIN:VCALENDAR
VERSION:2.0
PRODID:-//Women in Digital Empowerment - ECPv5.5.0.1//NONSGML v1.0//EN
CALSCALE:GREGORIAN
METHOD:PUBLISH
X-WR-CALNAME:Women in Digital Empowerment
X-ORIGINAL-URL:https://wide.lu
X-WR-CALDESC:Events for Women in Digital Empowerment
BEGIN:VTIMEZONE
TZID:Europe/Paris
BEGIN:DAYLIGHT
TZOFFSETFROM:+0100
TZOFFSETTO:+0200
TZNAME:CEST
DTSTART:20180325T010000
END:DAYLIGHT
BEGIN:STANDARD
TZOFFSETFROM:+0200
TZOFFSETTO:+0100
TZNAME:CET
DTSTART:20181028T010000
END:STANDARD
END:VTIMEZONE
BEGIN:VEVENT
DTSTART;TZID=Europe/Paris:20180517T160000
DTEND;TZID=Europe/Paris:20180517T170000
DTSTAMP:20210425T204619
CREATED:20180412T133658Z
LAST-MODIFIED:20180502T113041Z
UID:2021-1526572800-1526576400@wide.lu
SUMMARY:Visit of the LIST showroom
DESCRIPTION:Come to visit the « LIST Showroom » and discover a concentration of technologies « Made in Luxembourg » developed by LIST (Luxembourg Institute of Science and Technology) and its industry partners in collaboration with Luxinnovation. The LIST aims to reduce the gap between scientific research and businesses and this showroom illustrates perfectly the positioning of the institute. There are 11 innovative technologies demonstrated in the showroom such as « smart coatings »\, « collaborative decision making » or « e-health ». \nOpen to all\, register here
URL:https://wide.lu/event/visit-of-the-list-showroom/
LOCATION:Maison de l’innovation\, 5\, avenue des Hauts-Fourneaux\, Esch/Alzette\, 4362\, Luxembourg
END:VEVENT
END:VCALENDAR