BEGIN:VCALENDAR
VERSION:2.0
PRODID:-//Women in Digital Empowerment - ECPv5.5.0.1//NONSGML v1.0//EN
CALSCALE:GREGORIAN
METHOD:PUBLISH
X-WR-CALNAME:Women in Digital Empowerment
X-ORIGINAL-URL:https://wide.lu
X-WR-CALDESC:Events for Women in Digital Empowerment
BEGIN:VTIMEZONE
TZID:Europe/Paris
BEGIN:DAYLIGHT
TZOFFSETFROM:+0100
TZOFFSETTO:+0200
TZNAME:CEST
DTSTART:20180325T010000
END:DAYLIGHT
BEGIN:STANDARD
TZOFFSETFROM:+0200
TZOFFSETTO:+0100
TZNAME:CET
DTSTART:20181028T010000
END:STANDARD
END:VTIMEZONE
BEGIN:VEVENT
DTSTART;TZID=Europe/Paris:20180503T123000
DTEND;TZID=Europe/Paris:20180503T170000
DTSTAMP:20210425T204609
CREATED:20180327T071900Z
LAST-MODIFIED:20191217T103226Z
UID:1963-1525350600-1525366800@wide.lu
SUMMARY:Women\, coding & confidence
DESCRIPTION:The Representation of the European Commission in Luxembourg\nand\nWomen in Digital Empowerment (WIDE) \n  \nare pleased to invite you to their event: \n  \n“Women\, coding and confidence” \non 3 May 2018\, 12:30 – 17:00\nMaison de l’Europe Luxembourg \n  \nThis event is related to the Erasmus plus project (adult education) results\, Wow Code 2 Confidence\, which aims to share best practices on coding activities for women and their impact on self-confidence\, employability\, creativity\, sense of entrepreneurship and  learning experience.  \n  \nProgramme: \n  \n12:30 – 13:00 \nWelcome and light walking lunch \n13:00 – 14:00 \nIntroduction: Yuriko Backes\, Head of the Representation of the  European Commission in Luxembourg \nPresentation of the project results: “WowCode2Confidence” by Marina Andrieu\, Director of WIDE \nTestimonials from women who have learned coding to make a change in their life and from European project partners: \nAxelle Feider\, CEO and Co-Founder\, Orga50 S.àrl\nKatja Legisa\, Digital Brusselles Director\, Digital Leadership Institute\nSandrine Lagarde\, law graduate currently in training with FitCodingjobs \n15:00 – 17:00 \nFree workshop: “Introduction to Html & CSS” \nLimited capacity – participants must bring their own laptop \n  \nRegister here \nFor more information\, please contact us: contact@women-digital.lu
URL:https://wide.lu/event/women-coding-confidence/
LOCATION:Maison de l’Europe Luxembourg
ATTACH;FMTTYPE=image/png:https://wide.lu/wp-content/uploads/2018/03/Women-coding-confidence-1.png
END:VEVENT
END:VCALENDAR