BEGIN:VCALENDAR
VERSION:2.0
PRODID:-//Women in Digital Empowerment - ECPv5.5.0.1//NONSGML v1.0//EN
CALSCALE:GREGORIAN
METHOD:PUBLISH
X-WR-CALNAME:Women in Digital Empowerment
X-ORIGINAL-URL:https://wide.lu
X-WR-CALDESC:Events for Women in Digital Empowerment
BEGIN:VTIMEZONE
TZID:Europe/Paris
BEGIN:DAYLIGHT
TZOFFSETFROM:+0100
TZOFFSETTO:+0200
TZNAME:CEST
DTSTART:20190331T010000
END:DAYLIGHT
BEGIN:STANDARD
TZOFFSETFROM:+0200
TZOFFSETTO:+0100
TZNAME:CET
DTSTART:20191027T010000
END:STANDARD
END:VTIMEZONE
BEGIN:VEVENT
DTSTART;TZID=Europe/Paris:20190607T090000
DTEND;TZID=Europe/Paris:20190607T123000
DTSTAMP:20210424T023644
CREATED:20190520T174209Z
LAST-MODIFIED:20190528T081530Z
UID:2768-1559898000-1559910600@wide.lu
SUMMARY:The smart guide to online safety
DESCRIPTION:The Ministry of Economy in partnership with C3 (Cybersecurity Competence Center) and SECURITYMADEIN.LU \nare offering an introduction training to Cyber Security for women. \nContent: \nKnow and refresh your basics. Raising awareness and “Best Practices” on cyber sec do and dont-s (tips). \nEven if a lot has been said on personal online safety\, this module will serve as a reminder of Cyber Sec basics. The goal is also to allow women to explain to others the importance of how to stay safe online and show and promote to others basic procedures. \nThe content will be directly inspired by C3 – SECURITYMADEIN.LU training. \nThis is part of our new “raising awarness in Cyber Security” programme supported by the Ministry of Economy. \nThis training is for beginner level. Capacity limited to 20 participants. \nIf interested\, please register here.
URL:https://wide.lu/event/the-smart-guide-to-online-safety/
LOCATION:C3 / Security made in Lëtzebuerg (SMILE) g.i.e.\, 16 Boulevard d'Avranches\, Luxembourg\, 1160\, Luxembourg
END:VEVENT
END:VCALENDAR