BEGIN:VCALENDAR
VERSION:2.0
PRODID:-//Women in Digital Empowerment - ECPv4.9.14//NONSGML v1.0//EN
CALSCALE:GREGORIAN
METHOD:PUBLISH
X-WR-CALNAME:Women in Digital Empowerment
X-ORIGINAL-URL:https://wide.lu
X-WR-CALDESC:Events for Women in Digital Empowerment
BEGIN:VTIMEZONE
TZID:Europe/Paris
BEGIN:DAYLIGHT
TZOFFSETFROM:+0100
TZOFFSETTO:+0200
TZNAME:CEST
DTSTART:20190331T010000
END:DAYLIGHT
BEGIN:STANDARD
TZOFFSETFROM:+0200
TZOFFSETTO:+0100
TZNAME:CET
DTSTART:20191027T010000
END:STANDARD
END:VTIMEZONE
BEGIN:VEVENT
DTSTART;TZID=Europe/Paris:20190715T080000
DTEND;TZID=Europe/Paris:20190718T170000
DTSTAMP:20200126T100101
CREATED:20190502T095240Z
LAST-MODIFIED:20190729T093329Z
UID:2744-1563177600-1563469200@wide.lu
SUMMARY:Summer School
DESCRIPTION:This year WIDE- Women In Digital Empowerment\, a reference organisation for the inclusion of girls and women in new technologies in Luxembourg\, organises its Summer School. It will take place every morning from the 15th to the 19th July in Amazon SnT\, Kirchberg. \nThis program\, in partnership with the Ministry of Equality between women and men\, will welcome girls and boys from 13 to 19. They will discover new technologies\, coding and practical applications \nThe event will be divided in two parts: \n\nOn the 16th\, the 17th and the 18th: teenagers will develop a “Smart Lutin” (a connected device that looks after your plants)\nOn the 15th and the 19th: talks with researchers and professional\n\nAll activities will take place during mornings only. \nFree of charge and space limited so join us if you want to have fun! \nIf interested please register here. \nPlease note that the event is currently full booked. Thus\, by registering you will now be on our waiting list. \n
URL:https://wide.lu/event/summer-school/
END:VEVENT
END:VCALENDAR