BEGIN:VCALENDAR
VERSION:2.0
PRODID:-//Women in Digital Empowerment - ECPv5.5.0.1//NONSGML v1.0//EN
CALSCALE:GREGORIAN
METHOD:PUBLISH
X-WR-CALNAME:Women in Digital Empowerment
X-ORIGINAL-URL:https://wide.lu
X-WR-CALDESC:Events for Women in Digital Empowerment
BEGIN:VTIMEZONE
TZID:Europe/Paris
BEGIN:DAYLIGHT
TZOFFSETFROM:+0100
TZOFFSETTO:+0200
TZNAME:CEST
DTSTART:20200329T010000
END:DAYLIGHT
BEGIN:STANDARD
TZOFFSETFROM:+0200
TZOFFSETTO:+0100
TZNAME:CET
DTSTART:20201025T010000
END:STANDARD
END:VTIMEZONE
BEGIN:VEVENT
DTSTART;TZID=Europe/Paris:20200127T093000
DTEND;TZID=Europe/Paris:20200131T170000
DTSTAMP:20210424T024710
CREATED:20191212T100632Z
LAST-MODIFIED:20191212T101125Z
UID:3663-1580117400-1580490000@wide.lu
SUMMARY:One-week Coding Workshop
DESCRIPTION:  \nWe are pleased to announce our next coding session. This course aims to give you a complete introduction to web development and coding using HTML\, CSS & JavaScript. \nWhen? 27th – 31st January 2020. The workshops start at ​9:30​​ ​and end at ​17:00​​ ​every day with one hour lunch break. \nPrice? 250€​​ ​for individual participants for the January session thanks to the support of Digital Luxembourg. Eligible for co-financing. \nOpen to women entrepreneurs (or future!) and for those who want to retrain in IT. \nMore information and registration by email at coding@women-digital.lu.
URL:https://wide.lu/event/one-week-coding-workshop/
LOCATION:House of Startups\, 9 Rue du Laboratoire\, Luxembourg\, 1911
END:VEVENT
END:VCALENDAR