BEGIN:VCALENDAR
VERSION:2.0
PRODID:-//Women in Digital Empowerment - ECPv5.5.0.1//NONSGML v1.0//EN
CALSCALE:GREGORIAN
METHOD:PUBLISH
X-WR-CALNAME:Women in Digital Empowerment
X-ORIGINAL-URL:https://wide.lu
X-WR-CALDESC:Events for Women in Digital Empowerment
BEGIN:VTIMEZONE
TZID:Europe/Paris
BEGIN:DAYLIGHT
TZOFFSETFROM:+0100
TZOFFSETTO:+0200
TZNAME:CEST
DTSTART:20180325T010000
END:DAYLIGHT
BEGIN:STANDARD
TZOFFSETFROM:+0200
TZOFFSETTO:+0100
TZNAME:CET
DTSTART:20181028T010000
END:STANDARD
END:VTIMEZONE
BEGIN:VEVENT
DTSTART;VALUE=DATE:20181112
DTEND;VALUE=DATE:20181117
DTSTAMP:20210422T121631
CREATED:20180801T151430Z
LAST-MODIFIED:20180918T162226Z
UID:2223-1541980800-1542412799@wide.lu
SUMMARY:One-week Coding and Web development training
DESCRIPTION:We are happy to announce a new one-week intensive training course! \nLearn the basics of web development and programming – HTML\, CSS and JavaScript – with our specialized trainers! \nWhen? 12. – 16. November 2018\nWhere? Technoport Esch / Belval\nPrice? 600€ per participant \nMinimum 8 participants for the course to be organized. \nPlease read our full description:\nOne-Week Training Curriculum \nFor registration please fill in the form below:\nRegistration Form – Coding & Web Development Course \nIn case of some questions\, do not hesitate to contact us at contact@women-digital.lu
URL:https://wide.lu/event/one-week-coding-and-web-development-workshop/
END:VEVENT
END:VCALENDAR