BEGIN:VCALENDAR
VERSION:2.0
PRODID:-//Women in Digital Empowerment - ECPv5.9.1//NONSGML v1.0//EN
CALSCALE:GREGORIAN
METHOD:PUBLISH
X-WR-CALNAME:Women in Digital Empowerment
X-ORIGINAL-URL:https://wide.lu
X-WR-CALDESC:Events for Women in Digital Empowerment
BEGIN:VTIMEZONE
TZID:Europe/Paris
BEGIN:DAYLIGHT
TZOFFSETFROM:+0100
TZOFFSETTO:+0200
TZNAME:CEST
DTSTART:20210328T010000
END:DAYLIGHT
BEGIN:STANDARD
TZOFFSETFROM:+0200
TZOFFSETTO:+0100
TZNAME:CET
DTSTART:20211031T010000
END:STANDARD
END:VTIMEZONE
BEGIN:VEVENT
DTSTART;TZID=Europe/Paris:20210426T090000
DTEND;TZID=Europe/Paris:20210521T170000
DTSTAMP:20211008T125400
CREATED:20210325T154358Z
LAST-MODIFIED:20210330T095502Z
UID:13902-1619427600-1621616400@wide.lu
SUMMARY:New Tech Discovery with Huawei
DESCRIPTION:We invite you to participate in our brand new online training programme in partnership with Huawei that will start on April 26th and will run until May 21st. \nThis is a unique opportunity to discover and learn more bout new technologies. Thanks to four webinars held on Mondays and short online courses you will be introduced to various subjects such as: \n– Data Center: New-Generation Cloudified Internet Infrastructure \n– SDN – Software-Defined Networking helps enterprise go digital \n– Python Programming Basics \nYou can already register here
URL:https://wide.lu/event/new-tech-discovery/
LOCATION:Online
CATEGORIES:new technologies
END:VEVENT
END:VCALENDAR