BEGIN:VCALENDAR
VERSION:2.0
PRODID:-//Women in Digital Empowerment - ECPv5.5.0.1//NONSGML v1.0//EN
CALSCALE:GREGORIAN
METHOD:PUBLISH
X-WR-CALNAME:Women in Digital Empowerment
X-ORIGINAL-URL:https://wide.lu
X-WR-CALDESC:Events for Women in Digital Empowerment
BEGIN:VTIMEZONE
TZID:Europe/Paris
BEGIN:DAYLIGHT
TZOFFSETFROM:+0100
TZOFFSETTO:+0200
TZNAME:CEST
DTSTART:20190331T010000
END:DAYLIGHT
BEGIN:STANDARD
TZOFFSETFROM:+0200
TZOFFSETTO:+0100
TZNAME:CET
DTSTART:20191027T010000
END:STANDARD
END:VTIMEZONE
BEGIN:VEVENT
DTSTART;TZID=Europe/Paris:20191217T170000
DTEND;TZID=Europe/Paris:20191217T170000
DTSTAMP:20210424T024634
CREATED:20191129T132755Z
LAST-MODIFIED:20191129T132832Z
UID:3092-1576602000-1576602000@wide.lu
SUMMARY:IT Ladies Night
DESCRIPTION:Come and share an evening dedicated to celebrating women’s contribution to the IT sector. The IT Ladies Night event is organized by IT One and FARVEST Group with our official support! \nThis new gathering will reward and recognize women’s expertise and accomplishments in developing Luxembourg as a gender-balanced digital nation with the first Luxembourg ICT Women Awards. \nYou can find more information and book your ticket on the event’s website: www.itladiesnight.lu \n  \nPROGRAM : \n– Keynote by Isabelle Collet\, professor\, and author \n– Round table with : \n\nVirgine Vast\, Head of Vodafone Foundation Luxembourg\nJelena Matone\, CISO\, EIB (European Investment Bank)\nMarina Guerin Jabbour\, Head of Digital Innovation Hub\, Luxinnovation\n\nModerated by Marina Andrieu\, Co-founder\, and Director\, WIDE (Women In Digital Empowerment) \n– Networking Cocktail \n– Awards Ceremony & Gala Dinner \n– After Party
URL:https://wide.lu/event/it-ladies-night/
LOCATION:Alvisse Parc Hotel\, 120 Route d'Echternach\, luxembourg-ville\, 1453\, Luxembourg
END:VEVENT
END:VCALENDAR