BEGIN:VCALENDAR
VERSION:2.0
PRODID:-//Women in Digital Empowerment - ECPv5.9.1//NONSGML v1.0//EN
CALSCALE:GREGORIAN
METHOD:PUBLISH
X-WR-CALNAME:Women in Digital Empowerment
X-ORIGINAL-URL:https://wide.lu
X-WR-CALDESC:Events for Women in Digital Empowerment
BEGIN:VTIMEZONE
TZID:Europe/Paris
BEGIN:DAYLIGHT
TZOFFSETFROM:+0100
TZOFFSETTO:+0200
TZNAME:CEST
DTSTART:20210328T010000
END:DAYLIGHT
BEGIN:STANDARD
TZOFFSETFROM:+0200
TZOFFSETTO:+0100
TZNAME:CET
DTSTART:20211031T010000
END:STANDARD
END:VTIMEZONE
BEGIN:VEVENT
DTSTART;TZID=Europe/Paris:20210415T123000
DTEND;TZID=Europe/Paris:20210415T133000
DTSTAMP:20211008T125414
CREATED:20210325T155113Z
LAST-MODIFIED:20210409T075119Z
UID:13904-1618489800-1618493400@wide.lu
SUMMARY:Girls in ICT Day 2021
DESCRIPTION:Organised worldwide by the International Telecommunications Union\, a specialised agency of the United Nations\,\nGirls in ICT  is an opportunity to discover existing possibilities in the field of information technology. \nThe year online webinar “A world of opportunity” will be held in English on the 15th of April.\n\nWe can already confirm the participation of the following speaker :\n \nPallavi Malhorta\, Director for Huawei ICT Academy Programme\, Western European Region\nAnne-Claire Buléon\, Founder and Head Hunter at the Circle\n Marta Duponselle\, Marketing Director at NTT Luxembourg\nReyhan Baykara – Digital Marketing Specialist\n\nYou can already register for the event here\, like always both women and men are welcome to attend
URL:https://wide.lu/event/girls-in-ict-day-2021/
CATEGORIES:conference
END:VEVENT
END:VCALENDAR