BEGIN:VCALENDAR
VERSION:2.0
PRODID:-//Women in Digital Empowerment - ECPv5.5.0.1//NONSGML v1.0//EN
CALSCALE:GREGORIAN
METHOD:PUBLISH
X-WR-CALNAME:Women in Digital Empowerment
X-ORIGINAL-URL:https://wide.lu
X-WR-CALDESC:Events for Women in Digital Empowerment
BEGIN:VTIMEZONE
TZID:Europe/Paris
BEGIN:DAYLIGHT
TZOFFSETFROM:+0100
TZOFFSETTO:+0200
TZNAME:CEST
DTSTART:20200329T010000
END:DAYLIGHT
BEGIN:STANDARD
TZOFFSETFROM:+0200
TZOFFSETTO:+0100
TZNAME:CET
DTSTART:20201025T010000
END:STANDARD
END:VTIMEZONE
BEGIN:VEVENT
DTSTART;TZID=Europe/Paris:20201010T093000
DTEND;TZID=Europe/Paris:20201010T120000
DTSTAMP:20210423T120015
CREATED:20200914T092355Z
LAST-MODIFIED:20201002T072920Z
UID:8976-1602322200-1602331200@wide.lu
SUMMARY:Family coding Workshop (French session)
DESCRIPTION:En octobre\, nous organisons deux ateliers de programmation en famille\, un en français et un en anglais\, le samedi matin de 9h30 à 12h00 au Technoport d’Esch-Belval. \nVenez avec vos enfants (de 8 à 12 ans) le 10 octobre 2020 et apprenez les bases de la programmation grâce à Kniwwelino ! \nInscriptions ici! \nCompte tenu de la crise sanitaire actuelle\, nous accueillerons au maximum 4 familles avec 2 enfants par famille. Le masque est obligatoire pour les parents. \nVous n’êtes pas disponible le 10 ? Une autre session (en anglais) est organisée le 17 octobre ! Inscrivez-vous ici!
URL:https://wide.lu/event/family-coding-workshop-french-session/
LOCATION:Technoport Esch / Belval\, 9 Avenue des Hauts-Fourneaux\, Esch-sur-Alzette\, 4362\, Luxembourg
END:VEVENT
END:VCALENDAR