BEGIN:VCALENDAR
VERSION:2.0
PRODID:-//Women in Digital Empowerment - ECPv5.5.0.1//NONSGML v1.0//EN
CALSCALE:GREGORIAN
METHOD:PUBLISH
X-WR-CALNAME:Women in Digital Empowerment
X-ORIGINAL-URL:https://wide.lu
X-WR-CALDESC:Events for Women in Digital Empowerment
BEGIN:VTIMEZONE
TZID:Europe/Paris
BEGIN:DAYLIGHT
TZOFFSETFROM:+0100
TZOFFSETTO:+0200
TZNAME:CEST
DTSTART:20200329T010000
END:DAYLIGHT
BEGIN:STANDARD
TZOFFSETFROM:+0200
TZOFFSETTO:+0100
TZNAME:CET
DTSTART:20201025T010000
END:STANDARD
END:VTIMEZONE
BEGIN:VEVENT
DTSTART;TZID=Europe/Paris:20200204T090000
DTEND;TZID=Europe/Paris:20200205T130000
DTSTAMP:20210424T024452
CREATED:20200108T130316Z
LAST-MODIFIED:20200108T130316Z
UID:3911-1580806800-1580907600@wide.lu
SUMMARY:Eskills4all and Cybersecurity Workshop (French session)
DESCRIPTION:The Erasmus+ Eskills4All project is aimed at providing basic digital skills for unemployed or digitally low skilled adults. As part of this initiative\, we are delighted to offer a free workshop in French for 8 participants. \nDuring the first morning (4th of February 2020)\, we will present the project\, the e-platform and the e-badges system. After this introduction\, the trainers will share insights and focus on the basics of computer and Internet use. During this workshop\, we will explain how to access\, learn and finally acquire through a quiz and a self-assessment the corresponding e-badges to help boost your professional profiles. \nThe second morning (5th of February) will be dedicated to an introduction to online safety and cybersecurity best practices. \nLanguages: this first training and the learning material will be available in French. \nDates: 4th and 5th February\, 9:00 – 13:00 \nTarget group: Women (but not only) looking to review or improve the basics of their digital skills. \nFind out more details about the project at https://eskills4all.eu/about  \nYou can already register here \n  \n 
URL:https://wide.lu/event/eskills4all-and-cybersecurity-workshop-french-session/
LOCATION:Technoport Esch / Belval\, 9 Avenue des Hauts-Fourneaux\, Esch-sur-Alzette\, 4362\, Luxembourg
CATEGORIES:workshop
END:VEVENT
END:VCALENDAR