BEGIN:VCALENDAR
VERSION:2.0
PRODID:-//Women in Digital Empowerment - ECPv5.5.0.1//NONSGML v1.0//EN
CALSCALE:GREGORIAN
METHOD:PUBLISH
X-WR-CALNAME:Women in Digital Empowerment
X-ORIGINAL-URL:https://wide.lu
X-WR-CALDESC:Events for Women in Digital Empowerment
BEGIN:VTIMEZONE
TZID:Europe/Paris
BEGIN:DAYLIGHT
TZOFFSETFROM:+0100
TZOFFSETTO:+0200
TZNAME:CEST
DTSTART:20200329T010000
END:DAYLIGHT
BEGIN:STANDARD
TZOFFSETFROM:+0200
TZOFFSETTO:+0100
TZNAME:CET
DTSTART:20201025T010000
END:STANDARD
END:VTIMEZONE
BEGIN:VEVENT
DTSTART;TZID=Europe/Paris:20201016T120000
DTEND;TZID=Europe/Paris:20201016T130000
DTSTAMP:20210423T120039
CREATED:20200915T092737Z
LAST-MODIFIED:20201002T071811Z
UID:9025-1602849600-1602853200@wide.lu
SUMMARY:Brand management with Sabine Marrucho
DESCRIPTION:Welcome back to our Entrepreneurship Talks series!\nThis is the second session from our series Entrepreneurship Talks with Seasoned Entrepreneurs\, where we are aiming to share experiences and knowledge from our local entrepreneurial scene to inspire you to start your own business adventure!  \nAs an expert in brand strategy\, Sabine guides and supports entrepreneurs and SMEs in the management of their brand\, from creation to international development. She helps them create\, launch and develop a strong\, authentic\, differentiating brand\, aligned with their values so that it becomes a lasting growth driver for their company. \nJoin us for the webinar on Friday the 16th of October at 12 pm\, to get some business inspiration! \nRegistrations here!
URL:https://wide.lu/event/entrepreneurship-talks-with-sabine-marrucho/
LOCATION:Online
END:VEVENT
END:VCALENDAR