BEGIN:VCALENDAR
VERSION:2.0
PRODID:-//Women in Digital Empowerment - ECPv5.5.0.1//NONSGML v1.0//EN
CALSCALE:GREGORIAN
METHOD:PUBLISH
X-WR-CALNAME:Women in Digital Empowerment
X-ORIGINAL-URL:https://wide.lu
X-WR-CALDESC:Events for Women in Digital Empowerment
BEGIN:VTIMEZONE
TZID:Europe/Paris
BEGIN:DAYLIGHT
TZOFFSETFROM:+0100
TZOFFSETTO:+0200
TZNAME:CEST
DTSTART:20190331T010000
END:DAYLIGHT
BEGIN:STANDARD
TZOFFSETFROM:+0200
TZOFFSETTO:+0100
TZNAME:CET
DTSTART:20191027T010000
END:STANDARD
END:VTIMEZONE
BEGIN:VEVENT
DTSTART;TZID=Europe/Paris:20191204T090000
DTEND;TZID=Europe/Paris:20191204T123000
DTSTAMP:20210424T023546
CREATED:20190916T101612Z
LAST-MODIFIED:20191114T101834Z
UID:2999-1575450000-1575462600@wide.lu
SUMMARY:Workshop "Cybersecurity in organisations"
DESCRIPTION:The previous module served as a reminder of Cybersecurity basis\, providing women with the expertise to better protect their online identity and to gain confidence using digital tools. Article here.  On the 4th of December will be held our second Module :  \n\nWorkshop – “Cybersecurity in organisations”\n  \n4th December 2019\, 9 am – 12.30 pm \nat Luxembourg Ministry of the Economy \n  \nOrganised by WIDE\, with the support of the Luxembourg Ministry of the Economy\, in partnership with the Cybersecurity Competence Center and Excellium Services. \nThis session is open to all women involved in business or management willing to be savvier when it comes to cybersecurity. \nThemes covered:\n– Cybersecurity: a critical business and management issues (not only I.T.)\n– Current challenges for companies and organisations\n– ‘Jargon’ and how to survive a discussion with cybersecurity experts\n– Best practices\n– Role of SECURITYMADEIN.LU / CASES and the services offered by partners of the cybersecurity ecosystem \nWith the participation of Christophe Bianco\, CEO of Excellium Services and Fabien Mathey\, CASES expert. \nNo technical skills needed. Capacity: max 15 people. \n  \nIf you are interested\, please register here 
URL:https://wide.lu/event/cybersecurity-workshop-the-smart-guide-to-online-safety/
LOCATION:Luxembourg\, 19-21 Boulevard Royal\, Luxembourg\, 2449\, Luxembourg
END:VEVENT
END:VCALENDAR