BEGIN:VCALENDAR
VERSION:2.0
PRODID:-//Women in Digital Empowerment - ECPv5.9.1//NONSGML v1.0//EN
CALSCALE:GREGORIAN
METHOD:PUBLISH
X-WR-CALNAME:Women in Digital Empowerment
X-ORIGINAL-URL:https://wide.lu
X-WR-CALDESC:Events for Women in Digital Empowerment
BEGIN:VTIMEZONE
TZID:Europe/Paris
BEGIN:DAYLIGHT
TZOFFSETFROM:+0100
TZOFFSETTO:+0200
TZNAME:CEST
DTSTART:20200329T010000
END:DAYLIGHT
BEGIN:STANDARD
TZOFFSETFROM:+0200
TZOFFSETTO:+0100
TZNAME:CET
DTSTART:20201025T010000
END:STANDARD
END:VTIMEZONE
BEGIN:VEVENT
DTSTART;TZID=Europe/Paris:20200305T123000
DTEND;TZID=Europe/Paris:20200305T143000
DTSTAMP:20211008T125339
CREATED:20200205T153727Z
LAST-MODIFIED:20200303T144845Z
UID:4032-1583411400-1583418600@wide.lu
SUMMARY:Conference « Lëtz go equal in digital »
DESCRIPTION:The Digital sector\, a future for women and men! \nTo celebrate International Women’s Day\, The Ministère de l’Égalité entre les femmes et les hommes (MEGA)\, in partnership with WIDE (Women in Digital Empowerment) is organizing a conference to raise awareness on gender equality in the fields of Digital with the presence of Taina Bofferding\, the Minister of Equality Between Women and Men. \nThe event is aiming to encourage more girls and boys to join technological and digital fields. The lack of role models in tech and entrepreneurship has inspired us to showcase the best talents in those industries preparing a fantastic line up of startup founders\, speakers\, experts\, and mentors. \nThere will be startups pitches and panel discussions with founders from Mattrvest (Diane Delava)\, Food4All (Astrid Leonet)\, Sumy (Hinde Boulbayem)\, CheckMath (Himadri Pathak) and WEO (Charlotte Wirion & Imeshi Weerasinghe) and with Philipe Linster\, CEO at House of Startups Luxembourg. \nRegister\, as only limited spaces are available. The attendance to the afternoon conference is free. \nWhen? March 5th\, 2020\, 12h30-14h30 \nWhere? Halle des Poches à Fonte\, Esch Belval \n  \nYou can  register for this free conference. \n 
URL:https://wide.lu/event/conference-letz-go-equal-in-digital/
LOCATION:Halle des poches à fonte\, avenue du Rock'n'Roll / avenue des Hauts fourneaux\, Esch Belval\, 4061\, Luxembourg
ATTACH;FMTTYPE=image/jpeg:https://wide.lu/wp-content/uploads/2020/02/savethedate-wide.jpg
END:VEVENT
END:VCALENDAR