BEGIN:VCALENDAR
VERSION:2.0
PRODID:-//Women in Digital Empowerment - ECPv4.6.12//NONSGML v1.0//EN
CALSCALE:GREGORIAN
METHOD:PUBLISH
X-WR-CALNAME:Women in Digital Empowerment
X-ORIGINAL-URL:http://wide.lu
X-WR-CALDESC:Events for Women in Digital Empowerment
BEGIN:VEVENT
DTSTART;TZID=Europe/Paris:20180705T140000
DTEND;TZID=Europe/Paris:20180706T153000
DTSTAMP:20180701T045937
CREATED:20180618T131549Z
LAST-MODIFIED:20180618T131549Z
UID:2129-1530799200-1530891000@wide.lu
SUMMARY:Genre & Education : Conférence internationale à Mondorf-les-Bains
DESCRIPTION:Dans le cadre de la Présidence Luxembourgeoise du Sommet de la Grande Région 2017/2018\, le ministère de l’Egalité des chances luxembourgeois organisera le 5 et le 6 juillet 2018 au Domaine Thermal de Mondorf-les-Bains une grande conférence internationale au sujet de « L’Egalité entre les genres dans l’éducation dans une approche comparative entre la France\, la Belgique\, l’Allemagne et le Luxembourg ». Cette conférence rassemblera des femmes et hommes politiques\, des expert(e)s et de représentant(e)s des régions et communautés regroupés au sein de la Grande Région\, spécialisés dans les domaines de l’égalité entre femmes et hommes et de l’éducation pour discuter de la nécessité d’intégrer davantage les aspects de l’égalité entre les genres dans les systèmes éducatifs respectifs.  La conférence débutera le 5 juillet 2018 à 14.00 heures avec un segment ministériel\, suivi d’une « Key Note » scientifique et d’une table-ronde pluridisciplinaire. Le matin du 6 juillet 2018 sera consacré au travail au sein de trois « workshops »\, dont les résultats seront présentés et commentés en guise de conclusion en fin d’après-midi. \nSource : http://www.mega.public.lu/ \nPlus d’informations et inscriptions ici \n
URL:http://wide.lu/event/genre-education-conference-internationale-a-mondorf-les-bains/
LOCATION:Mondorf-les-Bains\, Luxembourg
END:VEVENT
END:VCALENDAR